BEGIN:VCALENDAR
VERSION:2.0
PRODID:-//We Who Served - German-American Veterans Initiative - ECPv6.9.0//NONSGML v1.0//EN
CALSCALE:GREGORIAN
METHOD:PUBLISH
X-ORIGINAL-URL:https://wewhoserved.eu
X-WR-CALDESC:Veranstaltungen für We Who Served - German-American Veterans Initiative
REFRESH-INTERVAL;VALUE=DURATION:PT1H
X-Robots-Tag:noindex
X-PUBLISHED-TTL:PT1H
BEGIN:VTIMEZONE
TZID:UTC
BEGIN:STANDARD
TZOFFSETFROM:+0000
TZOFFSETTO:+0000
TZNAME:UTC
DTSTART:20240101T000000
END:STANDARD
END:VTIMEZONE
BEGIN:VEVENT
DTSTART;TZID=UTC:20240427T100000
DTEND;TZID=UTC:20240427T103000
DTSTAMP:20260421T105437
CREATED:20240416T112436Z
LAST-MODIFIED:20240416T140813Z
UID:265-1714212000-1714213800@wewhoserved.eu
SUMMARY:Bike Cruise to the venue
DESCRIPTION:Venue: Quarry Hütschenhausen \nTo register for the cruise\, please contact Mr. Pat Mancuso +49 221 925 488 58 or send an email to contact@wewhoserved.eu.
URL:https://wewhoserved.eu/event/veteran-bike-cruise
LOCATION:MIRASCON Ramstein\, Landstuhler Straße 77\, Ramstein-Miesenbach\, 66877
END:VEVENT
BEGIN:VEVENT
DTSTART;TZID=UTC:20240427T103000
DTEND;TZID=UTC:20240427T170000
DTSTAMP:20260421T105437
CREATED:20240412T130556Z
LAST-MODIFIED:20240416T114701Z
UID:145-1714213800-1714237200@wewhoserved.eu
SUMMARY:Open Air Church Service
DESCRIPTION:
URL:https://wewhoserved.eu/event/open-air-church-service
LOCATION:Steinbruch Hütschenhausen\, Taubenweiherweg\, Hütschenhausen\, 66882
END:VEVENT
END:VCALENDAR